BEGIN:VCALENDAR
VERSION:2.0
PRODID:-//District Outreach Initiatives - ECPv6.15.20//NONSGML v1.0//EN
CALSCALE:GREGORIAN
METHOD:PUBLISH
X-ORIGINAL-URL:https://district-outreach.com
X-WR-CALDESC:Events for District Outreach Initiatives
REFRESH-INTERVAL;VALUE=DURATION:PT1H
X-Robots-Tag:noindex
X-PUBLISHED-TTL:PT1H
BEGIN:VTIMEZONE
TZID:UTC
BEGIN:STANDARD
TZOFFSETFROM:+0000
TZOFFSETTO:+0000
TZNAME:UTC
DTSTART:20240101T000000
END:STANDARD
END:VTIMEZONE
BEGIN:VEVENT
DTSTART;TZID=UTC:20251214T120000
DTEND;TZID=UTC:20251214T180000
DTSTAMP:20260421T083921
CREATED:20251014T181230Z
LAST-MODIFIED:20251014T181533Z
UID:2585-1765713600-1765735200@district-outreach.com
SUMMARY:DOI 2nd Annual Gala
DESCRIPTION:Sparkle & Shine: An Afternoon of Purpose & Power\nEnjoy champagne\, gourmet brunch\, live entertainment\, and powerful storytelling from our Parent Mentors and youth leaders. \nSpecial Performance: We’re thrilled to feature acclaimed vocalist Simone Green a powerful voice who will elevate the energy of this unforgettable afternoon. \nLet’s come together to uplift our community and invest in what truly matters — healing\, equity\, and family power.
URL:https://district-outreach.com/event/doi-2nd-annual-gala/
ATTACH;FMTTYPE=image/jpeg:https://district-outreach.com/wp-content/uploads/2025/10/DOI-Fundraiser-Gala-Cover.jpg
ORGANIZER;CN="District Outreach Initiatives":MAILTO:districtoutreachllc@gmail.com
END:VEVENT
END:VCALENDAR